BEGIN:VCALENDAR
VERSION:2.0
PRODID:-//wp-events-plugin.com//7.2.3.1//EN
TZID:America/New_York
X-WR-TIMEZONE:America/New_York
BEGIN:VEVENT
UID:98@seniorsplus.org
DTSTART;TZID=America/New_York:20250625T130000
DTEND;TZID=America/New_York:20250625T143000
DTSTAMP:20250521T222646Z
URL:https://seniorsplus.org/events/author-talk-peter-van-oosten-6-25-25/
SUMMARY:Author Talk\, Peter van Oosten
DESCRIPTION:Join us for a presentation with Peter van Oosten\, author of An
 imals and Other Siblings. In this heartfelt and often humorous collection 
 of anecdotes\, Peter shares real-life encounters and reflections on our de
 ep connections and communication with animals. Drawing from a life lived a
 cross the globe\, he brings a unique and insightful perspective. Don’t m
 iss this chance to hear from a gifted storyteller who sees animals not jus
 t as companions\, but as kin.
CATEGORIES:Androscoggin County,Literary
LOCATION:SeniorsPlus Lewiston\, 8 Falcon Road\, Lewiston\, ME\, 04240\, Uni
 ted States
X-APPLE-STRUCTURED-LOCATION;VALUE=URI;X-ADDRESS=8 Falcon Road\, Lewiston\, 
 ME\, 04240\, United States;X-APPLE-RADIUS=100;X-TITLE=SeniorsPlus Lewiston
 :geo:0,0
END:VEVENT
BEGIN:VTIMEZONE
TZID:America/New_York
X-LIC-LOCATION:America/New_York
BEGIN:DAYLIGHT
DTSTART:20250309T030000
TZOFFSETFROM:-0500
TZOFFSETTO:-0400
TZNAME:EDT
END:DAYLIGHT
END:VTIMEZONE
END:VCALENDAR