BEGIN:VCALENDAR
VERSION:2.0
PRODID:-//wp-events-plugin.com//7.2.3.1//EN
TZID:America/New_York
X-WR-TIMEZONE:America/New_York
BEGIN:VEVENT
UID:97@seniorsplus.org
DTSTART;TZID=America/New_York:20250605T100000
DTEND;TZID=America/New_York:20250605T110000
DTSTAMP:20250521T222906Z
URL:https://seniorsplus.org/events/aarp-frauds-and-scams-6-5-25/
SUMMARY:AARP Frauds and Scams
DESCRIPTION:Frauds and scams can take many forms. Do you know how to recogn
 ize a potential scam? What\nactions to take? This presentation will discus
 s identity theft\, romance scams\, imposter scams\, and how to report thes
 e. Ask questions\, get resources\, guides\, and more.
CATEGORIES:Androscoggin County,Resources
LOCATION:SeniorsPlus Lewiston\, 8 Falcon Road\, Lewiston\, ME\, 04240\, Uni
 ted States
X-APPLE-STRUCTURED-LOCATION;VALUE=URI;X-ADDRESS=8 Falcon Road\, Lewiston\, 
 ME\, 04240\, United States;X-APPLE-RADIUS=100;X-TITLE=SeniorsPlus Lewiston
 :geo:0,0
END:VEVENT
BEGIN:VTIMEZONE
TZID:America/New_York
X-LIC-LOCATION:America/New_York
BEGIN:DAYLIGHT
DTSTART:20250309T030000
TZOFFSETFROM:-0500
TZOFFSETTO:-0400
TZNAME:EDT
END:DAYLIGHT
END:VTIMEZONE
END:VCALENDAR